BEGIN:VCALENDAR
VERSION:2.0
PRODID:-//eventon.com NONSGML v1.0//EN
CALSCALE:GREGORIAN
METHOD:PUBLISH
BEGIN:VEVENT
UID:69e7aad985a90
DTSTAMP:20260421T165033Z
DTSTART:20190927T183000Z
DTEND:20190927T200000Z
LOCATION:Comisión Provincial por la Memoria 54 487
SUMMARY:Presentación de ·ESMA· de Juan Carrá e Iñaki Echeverría
DESCRIPTION:Una rigurosa investigación\,  una novela gráfica\,  que descr
 ibe el horror de la última dictadura cívico-militar entre los años 1976 
 y 1983 en la Escuela de Mecánica de la Armada (ESMA) centro clandestino de
  detención\,  tortura y exterminio\,  donde se mantuvo en cautiverio alred
 edor de cinco mil personas que fueron secuestradas[..]\nhttps://www.comisio
 nporlamemoria.org/events/presentacion-de-%c2%b7esma%c2%b7-de-juan-carra-e-i
 naki-echeverria/
URL:https://www.comisionporlamemoria.org/events/presentacion-de-%c2%b7esma%c2%b7-de-juan-carra-e-inaki-echeverria/
END:VEVENT
END:VCALENDAR